BEGIN:VCALENDAR
VERSION:2.0
PRODID:-//ChamberMaster//Event Calendar 2.0//EN
METHOD:PUBLISH
X-PUBLISHED-TTL:P3D
REFRESH-INTERVAL:P3D
CALSCALE:GREGORIAN
BEGIN:VEVENT
DTSTART:20230531T163000Z
DTEND:20230531T180000Z
X-MICROSOFT-CDO-ALLDAYEVENT:FALSE
SUMMARY:z 2023 May Chamber YOU - AI Series - Social Media
DESCRIPTION:Chamber YOU AI Series - Using AI Tools in Social Media\n\nled by Kimberly Devine founder of Uplight Digital\n\n\n	Using AI-powered tools to generate personalized and engaging content for social media platforms.\n	Automating content curation processes to save time and resources. \n	Optimizing content distribution by analyzing user behavior and preferences. \n	And by taking advantage of the AI chat function to create blog content about specific subjects\, give focused tips\, optimize text for SEO and generate captivating titles.
X-ALT-DESC;FMTTYPE=text/html:<span style="font-size:16px\;"><span style="font-family:times new roman\;">Chamber YOU AI Series - Using AI Tools in Social Media<br />\nled by Kimberly Devine founder of Uplight Digital</span></span>\n\n<ul>\n	<li style="margin-top:0in\;margin-right:0in\;margin-bottom:0in\;margin-bottom:.0001pt\;vertical-align:baseline\;"><span style="font-family:times new roman\;"><span style="font-size:16px\;"><span style="border:none windowtext 1.0pt\;padding:0in\;"><span style="color:#262626\;">Using AI-powered tools to generate personalized and engaging content for social media platforms.</span></span></span></span></li>\n	<li style="margin-top:0in\;margin-right:0in\;margin-bottom:0in\;margin-bottom:.0001pt\;vertical-align:baseline\;font-variant:inherit\;font-stretch:inherit\;font-kerning:inherit\;font-feature-settings:inherit\;outline:0px\;box-sizing:inherit\;"><span style="font-family:times new roman\;"><span style="font-size:16px\;"><span style="border:none windowtext 1.0pt\;padding:0in\;"><span style="color:#262626\;">Automating content curation processes to save time and resources. </span></span></span></span></li>\n	<li style="margin-top:0in\;margin-right:0in\;margin-bottom:0in\;margin-bottom:.0001pt\;vertical-align:baseline\;font-variant:inherit\;font-stretch:inherit\;font-kerning:inherit\;font-feature-settings:inherit\;outline:0px\;box-sizing:inherit\;"><span style="font-family:times new roman\;"><span style="font-size:16px\;"><span style="border:none windowtext 1.0pt\;padding:0in\;"><span style="color:#262626\;">Optimizing content distribution by analyzing user behavior and preferences. </span></span></span></span></li>\n	<li style="margin-top:0in\;margin-right:0in\;margin-bottom:0in\;margin-bottom:.0001pt\;vertical-align:baseline\;font-variant:inherit\;font-stretch:inherit\;font-kerning:inherit\;font-feature-settings:inherit\;outline:0px\;box-sizing:inherit\;"><span style="font-family:times new roman\;"><span style="font-size:16px\;"><span style="color:#262626\;">And by <span style="border:none windowtext 1.0pt\;padding:0in\;">taking advantage of the AI chat function to create blog content about specific subjects\, give focused tips\, optimize text for SEO and generate captivating titles.</span></span></span></span></li>\n</ul>\n
LOCATION:Chamber office 120 North 12th Street Corsicana\, TX 75110
UID:e.2273.6151
SEQUENCE:3
DTSTAMP:20260423T175711Z
URL:https://www.corsicana.org/events/details/2023-may-chamber-you-ai-series-social-media-6151
END:VEVENT

END:VCALENDAR
