BEGIN:VCALENDAR
VERSION:2.0
PRODID:-//ChamberMaster//Event Calendar 2.0//EN
METHOD:PUBLISH
X-PUBLISHED-TTL:P3D
REFRESH-INTERVAL:P3D
CALSCALE:GREGORIAN
BEGIN:VEVENT
DTSTART:20260512T120000Z
DTEND:20260512T150000Z
X-MICROSOFT-CDO-ALLDAYEVENT:FALSE
SUMMARY:2026 Appreciation Breakfast for Law Enforcement
DESCRIPTION:Honoring Heroes Past & Present. Thank you to the law enforcement that sacrifice their lives on a daily basis. We appreciate you! Thank you to all the kind hearts that made this event happen. Barbara Kelley\, Curran Oakley with IMPACT Communities\, Crystal Richardson with Bristol Hospice\, Mari Worley\, Johnny Guerra\, and Kamar Chambers
X-ALT-DESC;FMTTYPE=text/html:Honoring Heroes Past &amp\; Present. Thank you to the law enforcement that sacrifice their lives on a daily basis. We appreciate you! Thank you to all the kind hearts that made this event happen. Barbara Kelley\, Curran Oakley with IMPACT Communities\, Crystal Richardson with Bristol Hospice\, Mari Worley\, Johnny Guerra\, and Kamar Chambers
LOCATION:Chamber parking lot 120 N. 12th Street Corsicana\, TX 75110
UID:e.2273.7828
SEQUENCE:3
DTSTAMP:20260420T233701Z
URL:https://www.corsicana.org/events/details/2026-appreciation-breakfast-for-law-enforcement-7828
END:VEVENT

END:VCALENDAR
