BEGIN:VCALENDAR
VERSION:2.0
PRODID:-//ChamberMaster//Event Calendar 2.0//EN
METHOD:PUBLISH
X-PUBLISHED-TTL:P3D
REFRESH-INTERVAL:P3D
CALSCALE:GREGORIAN
BEGIN:VEVENT
DTSTART:20170826T000000Z
DTEND:20170826T020000Z
X-MICROSOFT-CDO-ALLDAYEVENT:FALSE
SUMMARY:David Phelps - A Journey of Faith Tour
DESCRIPTION:A graduate from Baylor University\, David Phelps is credited among today's most spectacular voices. For more than 15 years\, David served as a member of the popular and prestigious Gaither Vocal Band\, and during that time received numerous Dove Awards\, Grammy Awards\, and multiple platinum-selling recording projects.\n\n \nJoin David and the band on the road as they set out on this new series of concerts!\n\nA Journey of Faith Tour\n\nThe A Journey of Faith Tour kicks off with the release of David's newest record:\n\nHymnal: A Journey of Faith Through Hymns.
X-ALT-DESC;FMTTYPE=text/html:<span style="font-size:14px\;">A graduate from Baylor University\, David Phelps is credited among today&rsquo\;s most spectacular voices. For more than 15 years\, David served as a member of the popular and prestigious Gaither Vocal Band\, and during that time received numerous Dove Awards\, Grammy Awards\, and multiple platinum-selling recording projects.</span><br />\n&nbsp\;\n<p style="margin: 0em 0px 1em\; font-family: Lato\, sans-serif\; font-size: 17px\; text-align: center\; box-sizing: border-box !important\;">Join David and the band on the road as they set out on this new series of concerts!</p>\n\n<p style="margin: 0em 0px 1em\; font-family: Lato\, sans-serif\; font-size: 17px\; text-align: center\; box-sizing: border-box !important\;"><em style="box-sizing: border-box !important\;">A Journey of Faith Tour</em></p>\n\n<p style="margin: 0em 0px 1em\; font-family: Lato\, sans-serif\; font-size: 17px\; text-align: center\; box-sizing: border-box !important\;">The&nbsp\;<em style="box-sizing: border-box !important\;">A Journey of Faith Tour</em>&nbsp\;kicks off with the release of David&rsquo\;s newest record:</p>\n\n<p style="margin: 0em 0px 1em\; font-family: Lato\, sans-serif\; font-size: 17px\; text-align: center\; box-sizing: border-box !important\;"><em style="box-sizing: border-box !important\;">Hymnal: A Journey of Faith Through Hymns.</em></p>\n
LOCATION:First Baptist Church of Mexia 500 E. Carthage St. Mexia\, TX 76667
UID:e.2273.193
SEQUENCE:3
DTSTAMP:20260420T210036Z
URL:https://www.corsicana.org/events/details/david-phelps-a-journey-of-faith-tour-193
END:VEVENT

END:VCALENDAR
