BEGIN:VCALENDAR
VERSION:2.0
PRODID:-//ChamberMaster//Event Calendar 2.0//EN
METHOD:PUBLISH
X-PUBLISHED-TTL:P3D
REFRESH-INTERVAL:P3D
CALSCALE:GREGORIAN
BEGIN:VEVENT
DTSTART:20190918T120000Z
DTEND:20190918T140000Z
X-MICROSOFT-CDO-ALLDAYEVENT:FALSE
SUMMARY:First Reponder's Breakfast
DESCRIPTION:Calling ALL First Responders...\n\nCome have breakfast with us at The Village at Heritage Oaks.
X-ALT-DESC;FMTTYPE=text/html:Calling ALL First Responders...<br />\nCome have breakfast with us at The Village at Heritage Oaks.&nbsp\;
LOCATION:The Village at Heritage Oaks 3002 West 2nd Avenue Corsicana\, TX 75110
UID:e.2273.4055
SEQUENCE:3
DTSTAMP:20260419T231654Z
URL:https://www.corsicana.org/events/details/first-reponder-s-breakfast-4055
END:VEVENT

END:VCALENDAR
