BEGIN:VCALENDAR
VERSION:2.0
PRODID:-//ChamberMaster//Event Calendar 2.0//EN
METHOD:PUBLISH
X-PUBLISHED-TTL:P3D
REFRESH-INTERVAL:P3D
CALSCALE:GREGORIAN
BEGIN:VEVENT
DTSTART:20231014T230000Z
DTEND:20231015T013000Z
X-MICROSOFT-CDO-ALLDAYEVENT:FALSE
SUMMARY:Taking Care Of Republican Business -- fundraiser event
DESCRIPTION:Texas Comptroller of Public Accounts Glenn Hegar will be keynote speaker for a fundraising event\, benefiting the Republican Party of Navarro County. Dinner\, auction\, and speakers will begin at 6:30 pm (Contributor Reception will occur at 5:30 - 6:00 pm). Dress business casual. Singing entertainment by Joanna Fritz.
X-ALT-DESC;FMTTYPE=text/html:Texas Comptroller of Public Accounts Glenn Hegar will be keynote speaker for a fundraising event\, benefiting the Republican Party of Navarro County. Dinner\, auction\, and speakers will begin at 6:30 pm (Contributor Reception will occur at 5:30 - 6:00 pm). Dress business casual. Singing entertainment by Joanna Fritz.
LOCATION:Navarro College Cook Center West Collin Avenue and North 41st Street\, Corsicana
UID:e.2273.7537
SEQUENCE:3
DTSTAMP:20260421T035809Z
URL:https://www.corsicana.org/events/details/taking-care-of-republican-business-fundraiser-event-7537
END:VEVENT

END:VCALENDAR
